BEGIN:VCALENDAR
VERSION:2.0
PRODID:-//Coconuts Beach Bar - ECPv6.11.2//NONSGML v1.0//EN
CALSCALE:GREGORIAN
METHOD:PUBLISH
X-ORIGINAL-URL:https://coconutsbeachbar.com
X-WR-CALDESC:Events for Coconuts Beach Bar
REFRESH-INTERVAL;VALUE=DURATION:PT1H
X-Robots-Tag:noindex
X-PUBLISHED-TTL:PT1H
BEGIN:VTIMEZONE
TZID:America/New_York
BEGIN:DAYLIGHT
TZOFFSETFROM:-0500
TZOFFSETTO:-0400
TZNAME:EDT
DTSTART:20260308T070000
END:DAYLIGHT
BEGIN:STANDARD
TZOFFSETFROM:-0400
TZOFFSETTO:-0500
TZNAME:EST
DTSTART:20261101T060000
END:STANDARD
END:VTIMEZONE
BEGIN:VEVENT
DTSTART;TZID=America/New_York:20261001T120000
DTEND;TZID=America/New_York:20261001T150000
DTSTAMP:20260423T072136
CREATED:20260211T180357Z
LAST-MODIFIED:20260211T180357Z
UID:10000659-1790856000-1790866800@coconutsbeachbar.com
SUMMARY:Heather Vidal
DESCRIPTION:
URL:https://coconutsbeachbar.com/event/heather-vidal-9/
LOCATION:Coconuts\, 3701 Atlantic Avenue\, Ocean City\, MD\, 21842\, United States
END:VEVENT
BEGIN:VEVENT
DTSTART;TZID=America/New_York:20261001T160000
DTEND;TZID=America/New_York:20261001T200000
DTSTAMP:20260423T072136
CREATED:20260211T180429Z
LAST-MODIFIED:20260211T180429Z
UID:10000660-1790870400-1790884800@coconutsbeachbar.com
SUMMARY:Full Circle
DESCRIPTION:
URL:https://coconutsbeachbar.com/event/full-circle-13/
LOCATION:Coconuts\, 3701 Atlantic Avenue\, Ocean City\, MD\, 21842\, United States
END:VEVENT
BEGIN:VEVENT
DTSTART;TZID=America/New_York:20261002T120000
DTEND;TZID=America/New_York:20261002T150000
DTSTAMP:20260423T072136
CREATED:20260211T180513Z
LAST-MODIFIED:20260211T180513Z
UID:10000661-1790942400-1790953200@coconutsbeachbar.com
SUMMARY:Opposite Directions
DESCRIPTION:
URL:https://coconutsbeachbar.com/event/opposite-directions-12/
LOCATION:Coconuts\, 3701 Atlantic Avenue\, Ocean City\, MD\, 21842\, United States
END:VEVENT
BEGIN:VEVENT
DTSTART;TZID=America/New_York:20261002T160000
DTEND;TZID=America/New_York:20261002T200000
DTSTAMP:20260423T072136
CREATED:20260211T180543Z
LAST-MODIFIED:20260211T180543Z
UID:10000662-1790956800-1790971200@coconutsbeachbar.com
SUMMARY:Monkee Paw
DESCRIPTION:
URL:https://coconutsbeachbar.com/event/monkee-paw-21/
LOCATION:Coconuts\, 3701 Atlantic Avenue\, Ocean City\, MD\, 21842\, United States
END:VEVENT
BEGIN:VEVENT
DTSTART;TZID=America/New_York:20261003T120000
DTEND;TZID=America/New_York:20261003T150000
DTSTAMP:20260423T072136
CREATED:20260211T180617Z
LAST-MODIFIED:20260211T180617Z
UID:10000663-1791028800-1791039600@coconutsbeachbar.com
SUMMARY:Shredded Cheddar
DESCRIPTION:
URL:https://coconutsbeachbar.com/event/shredded-cheddar-5/
LOCATION:Coconuts\, 3701 Atlantic Avenue\, Ocean City\, MD\, 21842\, United States
END:VEVENT
BEGIN:VEVENT
DTSTART;TZID=America/New_York:20261003T160000
DTEND;TZID=America/New_York:20261003T200000
DTSTAMP:20260423T072136
CREATED:20260211T180653Z
LAST-MODIFIED:20260211T180653Z
UID:10000664-1791043200-1791057600@coconutsbeachbar.com
SUMMARY:Chris Diller Band
DESCRIPTION:
URL:https://coconutsbeachbar.com/event/chris-diller-band-10/
LOCATION:Coconuts\, 3701 Atlantic Avenue\, Ocean City\, MD\, 21842\, United States
END:VEVENT
BEGIN:VEVENT
DTSTART;TZID=America/New_York:20261004T120000
DTEND;TZID=America/New_York:20261004T150000
DTSTAMP:20260423T072136
CREATED:20260211T180755Z
LAST-MODIFIED:20260211T180755Z
UID:10000665-1791115200-1791126000@coconutsbeachbar.com
SUMMARY:Margot & Val
DESCRIPTION:
URL:https://coconutsbeachbar.com/event/margot-val-12/
LOCATION:Coconuts\, 3701 Atlantic Avenue\, Ocean City\, MD\, 21842\, United States
END:VEVENT
BEGIN:VEVENT
DTSTART;TZID=America/New_York:20261004T160000
DTEND;TZID=America/New_York:20261004T200000
DTSTAMP:20260423T072136
CREATED:20260211T180836Z
LAST-MODIFIED:20260211T180836Z
UID:10000666-1791129600-1791144000@coconutsbeachbar.com
SUMMARY:33 RPM
DESCRIPTION:
URL:https://coconutsbeachbar.com/event/33-rpm-6/
LOCATION:Coconuts\, 3701 Atlantic Avenue\, Ocean City\, MD\, 21842\, United States
END:VEVENT
BEGIN:VEVENT
DTSTART;VALUE=DATE:20261005
DTEND;VALUE=DATE:20261006
DTSTAMP:20260423T072136
CREATED:20260211T180921Z
LAST-MODIFIED:20260211T180921Z
UID:10000667-1791158400-1791244799@coconutsbeachbar.com
SUMMARY:CLOSED
DESCRIPTION:
URL:https://coconutsbeachbar.com/event/closed-15/
LOCATION:Coconuts\, 3701 Atlantic Avenue\, Ocean City\, MD\, 21842\, United States
END:VEVENT
BEGIN:VEVENT
DTSTART;VALUE=DATE:20261006
DTEND;VALUE=DATE:20261007
DTSTAMP:20260423T072136
CREATED:20260211T180955Z
LAST-MODIFIED:20260211T180955Z
UID:10000668-1791244800-1791331199@coconutsbeachbar.com
SUMMARY:CLOSED
DESCRIPTION:
URL:https://coconutsbeachbar.com/event/closed-16/
LOCATION:Coconuts\, 3701 Atlantic Avenue\, Ocean City\, MD\, 21842\, United States
END:VEVENT
BEGIN:VEVENT
DTSTART;VALUE=DATE:20261007
DTEND;VALUE=DATE:20261008
DTSTAMP:20260423T072136
CREATED:20260211T181027Z
LAST-MODIFIED:20260211T181027Z
UID:10000669-1791331200-1791417599@coconutsbeachbar.com
SUMMARY:CLOSED
DESCRIPTION:
URL:https://coconutsbeachbar.com/event/closed-17/
LOCATION:Coconuts\, 3701 Atlantic Avenue\, Ocean City\, MD\, 21842\, United States
END:VEVENT
BEGIN:VEVENT
DTSTART;TZID=America/New_York:20261008T160000
DTEND;TZID=America/New_York:20261008T200000
DTSTAMP:20260423T072136
CREATED:20260211T181123Z
LAST-MODIFIED:20260211T181123Z
UID:10000670-1791475200-1791489600@coconutsbeachbar.com
SUMMARY:Kevin Poole & Joe Mama
DESCRIPTION:
URL:https://coconutsbeachbar.com/event/kevin-poole-joe-mama-25/
LOCATION:Coconuts\, 3701 Atlantic Avenue\, Ocean City\, MD\, 21842\, United States
END:VEVENT
BEGIN:VEVENT
DTSTART;TZID=America/New_York:20261009T120000
DTEND;TZID=America/New_York:20261009T150000
DTSTAMP:20260423T072136
CREATED:20260211T181259Z
LAST-MODIFIED:20260211T181259Z
UID:10000671-1791547200-1791558000@coconutsbeachbar.com
SUMMARY:Darin Engh
DESCRIPTION:
URL:https://coconutsbeachbar.com/event/darin-engh-34/
LOCATION:Coconuts\, 3701 Atlantic Avenue\, Ocean City\, MD\, 21842\, United States
END:VEVENT
BEGIN:VEVENT
DTSTART;TZID=America/New_York:20261009T160000
DTEND;TZID=America/New_York:20261009T200000
DTSTAMP:20260423T072136
CREATED:20260211T181353Z
LAST-MODIFIED:20260211T181353Z
UID:10000672-1791561600-1791576000@coconutsbeachbar.com
SUMMARY:Beach Bandits
DESCRIPTION:
URL:https://coconutsbeachbar.com/event/beach-bandits-9/
LOCATION:Coconuts\, 3701 Atlantic Avenue\, Ocean City\, MD\, 21842\, United States
END:VEVENT
BEGIN:VEVENT
DTSTART;TZID=America/New_York:20261010T120000
DTEND;TZID=America/New_York:20261010T150000
DTSTAMP:20260423T072136
CREATED:20260211T181458Z
LAST-MODIFIED:20260211T181458Z
UID:10000673-1791633600-1791644400@coconutsbeachbar.com
SUMMARY:Kevin Poole Solo
DESCRIPTION:
URL:https://coconutsbeachbar.com/event/kevin-poole-solo-15/
LOCATION:Coconuts\, 3701 Atlantic Avenue\, Ocean City\, MD\, 21842\, United States
END:VEVENT
BEGIN:VEVENT
DTSTART;TZID=America/New_York:20261010T160000
DTEND;TZID=America/New_York:20261010T200000
DTSTAMP:20260423T072136
CREATED:20260211T181537Z
LAST-MODIFIED:20260211T181537Z
UID:10000674-1791648000-1791662400@coconutsbeachbar.com
SUMMARY:Colossal Fossil Sauce
DESCRIPTION:
URL:https://coconutsbeachbar.com/event/colossal-fossil-sauce-11/
LOCATION:Coconuts\, 3701 Atlantic Avenue\, Ocean City\, MD\, 21842\, United States
END:VEVENT
BEGIN:VEVENT
DTSTART;TZID=America/New_York:20261011T120000
DTEND;TZID=America/New_York:20261011T150000
DTSTAMP:20260423T072136
CREATED:20260211T181621Z
LAST-MODIFIED:20260211T181621Z
UID:10000675-1791720000-1791730800@coconutsbeachbar.com
SUMMARY:Bret Baboorian
DESCRIPTION:
URL:https://coconutsbeachbar.com/event/bret-baboorian/
LOCATION:Coconuts\, 3701 Atlantic Avenue\, Ocean City\, MD\, 21842\, United States
END:VEVENT
BEGIN:VEVENT
DTSTART;TZID=America/New_York:20261011T160000
DTEND;TZID=America/New_York:20261011T200000
DTSTAMP:20260423T072136
CREATED:20260211T181659Z
LAST-MODIFIED:20260211T181659Z
UID:10000676-1791734400-1791748800@coconutsbeachbar.com
SUMMARY:The Dunehounds
DESCRIPTION:
URL:https://coconutsbeachbar.com/event/the-dunehounds-20/
LOCATION:Coconuts\, 3701 Atlantic Avenue\, Ocean City\, MD\, 21842\, United States
END:VEVENT
BEGIN:VEVENT
DTSTART;VALUE=DATE:20261012
DTEND;VALUE=DATE:20261013
DTSTAMP:20260423T072136
CREATED:20260211T181729Z
LAST-MODIFIED:20260211T181729Z
UID:10000677-1791763200-1791849599@coconutsbeachbar.com
SUMMARY:CLOSED
DESCRIPTION:
URL:https://coconutsbeachbar.com/event/closed-18/
LOCATION:Coconuts\, 3701 Atlantic Avenue\, Ocean City\, MD\, 21842\, United States
END:VEVENT
BEGIN:VEVENT
DTSTART;VALUE=DATE:20261013
DTEND;VALUE=DATE:20261014
DTSTAMP:20260423T072136
CREATED:20260211T181755Z
LAST-MODIFIED:20260211T181755Z
UID:10000678-1791849600-1791935999@coconutsbeachbar.com
SUMMARY:CLOSED
DESCRIPTION:
URL:https://coconutsbeachbar.com/event/closed-19/
LOCATION:Coconuts\, 3701 Atlantic Avenue\, Ocean City\, MD\, 21842\, United States
END:VEVENT
BEGIN:VEVENT
DTSTART;VALUE=DATE:20261014
DTEND;VALUE=DATE:20261015
DTSTAMP:20260423T072136
CREATED:20260211T181832Z
LAST-MODIFIED:20260211T181832Z
UID:10000679-1791936000-1792022399@coconutsbeachbar.com
SUMMARY:CLOSED
DESCRIPTION:
URL:https://coconutsbeachbar.com/event/closed-20/
LOCATION:Coconuts\, 3701 Atlantic Avenue\, Ocean City\, MD\, 21842\, United States
END:VEVENT
BEGIN:VEVENT
DTSTART;TZID=America/New_York:20261015T160000
DTEND;TZID=America/New_York:20261015T200000
DTSTAMP:20260423T072136
CREATED:20260211T182045Z
LAST-MODIFIED:20260211T182045Z
UID:10000680-1792080000-1792094400@coconutsbeachbar.com
SUMMARY:Kevin Poole & Joe Mama
DESCRIPTION:
URL:https://coconutsbeachbar.com/event/kevin-poole-joe-mama-26/
LOCATION:Coconuts\, 3701 Atlantic Avenue\, Ocean City\, MD\, 21842\, United States
END:VEVENT
BEGIN:VEVENT
DTSTART;TZID=America/New_York:20261016T120000
DTEND;TZID=America/New_York:20261016T150000
DTSTAMP:20260423T072136
CREATED:20260211T182204Z
LAST-MODIFIED:20260211T182204Z
UID:10000681-1792152000-1792162800@coconutsbeachbar.com
SUMMARY:Darin Engh
DESCRIPTION:
URL:https://coconutsbeachbar.com/event/darin-engh-35/
LOCATION:Coconuts\, 3701 Atlantic Avenue\, Ocean City\, MD\, 21842\, United States
END:VEVENT
BEGIN:VEVENT
DTSTART;TZID=America/New_York:20261016T160000
DTEND;TZID=America/New_York:20261016T200000
DTSTAMP:20260423T072136
CREATED:20260211T182237Z
LAST-MODIFIED:20260211T182237Z
UID:10000682-1792166400-1792180800@coconutsbeachbar.com
SUMMARY:Monkee Paw
DESCRIPTION:
URL:https://coconutsbeachbar.com/event/monkee-paw-22/
LOCATION:Coconuts\, 3701 Atlantic Avenue\, Ocean City\, MD\, 21842\, United States
END:VEVENT
BEGIN:VEVENT
DTSTART;TZID=America/New_York:20261017T120000
DTEND;TZID=America/New_York:20261017T150000
DTSTAMP:20260423T072136
CREATED:20260211T182309Z
LAST-MODIFIED:20260211T182309Z
UID:10000683-1792238400-1792249200@coconutsbeachbar.com
SUMMARY:Aaron Howell Duo
DESCRIPTION:
URL:https://coconutsbeachbar.com/event/aaron-howell-duo-4/
LOCATION:Coconuts\, 3701 Atlantic Avenue\, Ocean City\, MD\, 21842\, United States
END:VEVENT
BEGIN:VEVENT
DTSTART;TZID=America/New_York:20261017T160000
DTEND;TZID=America/New_York:20261017T200000
DTSTAMP:20260423T072136
CREATED:20260211T182349Z
LAST-MODIFIED:20260211T182349Z
UID:10000684-1792252800-1792267200@coconutsbeachbar.com
SUMMARY:My Dirty Little Secret
DESCRIPTION:
URL:https://coconutsbeachbar.com/event/my-dirty-little-secret-4/
LOCATION:Coconuts\, 3701 Atlantic Avenue\, Ocean City\, MD\, 21842\, United States
END:VEVENT
BEGIN:VEVENT
DTSTART;TZID=America/New_York:20261018T120000
DTEND;TZID=America/New_York:20261018T150000
DTSTAMP:20260423T072137
CREATED:20260211T182425Z
LAST-MODIFIED:20260211T182425Z
UID:10000685-1792324800-1792335600@coconutsbeachbar.com
SUMMARY:Rick & Regina
DESCRIPTION:
URL:https://coconutsbeachbar.com/event/rick-regina-12/
LOCATION:Coconuts\, 3701 Atlantic Avenue\, Ocean City\, MD\, 21842\, United States
END:VEVENT
BEGIN:VEVENT
DTSTART;TZID=America/New_York:20261018T160000
DTEND;TZID=America/New_York:20261018T200000
DTSTAMP:20260423T072137
CREATED:20260224T145750Z
LAST-MODIFIED:20260224T145750Z
UID:10000696-1792339200-1792353600@coconutsbeachbar.com
SUMMARY:Sketchbook Band
DESCRIPTION:
URL:https://coconutsbeachbar.com/event/sketchbook-band/
LOCATION:Coconuts\, 3701 Atlantic Avenue\, Ocean City\, MD\, 21842\, United States
END:VEVENT
BEGIN:VEVENT
DTSTART;VALUE=DATE:20261019
DTEND;VALUE=DATE:20261020
DTSTAMP:20260423T072137
CREATED:20260211T182531Z
LAST-MODIFIED:20260211T182531Z
UID:10000687-1792368000-1792454399@coconutsbeachbar.com
SUMMARY:CLOSED
DESCRIPTION:
URL:https://coconutsbeachbar.com/event/closed-21/
LOCATION:Coconuts\, 3701 Atlantic Avenue\, Ocean City\, MD\, 21842\, United States
END:VEVENT
BEGIN:VEVENT
DTSTART;VALUE=DATE:20261020
DTEND;VALUE=DATE:20261021
DTSTAMP:20260423T072137
CREATED:20260211T182555Z
LAST-MODIFIED:20260211T182555Z
UID:10000688-1792454400-1792540799@coconutsbeachbar.com
SUMMARY:CLOSED
DESCRIPTION:
URL:https://coconutsbeachbar.com/event/closed-22/
LOCATION:Coconuts\, 3701 Atlantic Avenue\, Ocean City\, MD\, 21842\, United States
END:VEVENT
END:VCALENDAR