BEGIN:VCALENDAR
VERSION:2.0
PRODID:-//Coconuts Beach Bar - ECPv6.11.2//NONSGML v1.0//EN
CALSCALE:GREGORIAN
METHOD:PUBLISH
X-ORIGINAL-URL:https://coconutsbeachbar.com
X-WR-CALDESC:Events for Coconuts Beach Bar
REFRESH-INTERVAL;VALUE=DURATION:PT1H
X-Robots-Tag:noindex
X-PUBLISHED-TTL:PT1H
BEGIN:VTIMEZONE
TZID:America/New_York
BEGIN:DAYLIGHT
TZOFFSETFROM:-0500
TZOFFSETTO:-0400
TZNAME:EDT
DTSTART:20260308T070000
END:DAYLIGHT
BEGIN:STANDARD
TZOFFSETFROM:-0400
TZOFFSETTO:-0500
TZNAME:EST
DTSTART:20261101T060000
END:STANDARD
END:VTIMEZONE
BEGIN:VEVENT
DTSTART;TZID=America/New_York:20260801T120000
DTEND;TZID=America/New_York:20260801T160000
DTSTAMP:20260421T053149
CREATED:20260210T155418Z
LAST-MODIFIED:20260210T155418Z
UID:10000535-1785585600-1785600000@coconutsbeachbar.com
SUMMARY:Dylan Canfield Trio
DESCRIPTION:
URL:https://coconutsbeachbar.com/event/dylan-canfield-trio-5/
LOCATION:Coconuts\, 3701 Atlantic Avenue\, Ocean City\, MD\, 21842\, United States
END:VEVENT
BEGIN:VEVENT
DTSTART;TZID=America/New_York:20260801T170000
DTEND;TZID=America/New_York:20260801T210000
DTSTAMP:20260421T053149
CREATED:20260210T160146Z
LAST-MODIFIED:20260210T160146Z
UID:10000536-1785603600-1785618000@coconutsbeachbar.com
SUMMARY:Rule G
DESCRIPTION:
URL:https://coconutsbeachbar.com/event/rule-g-2/
LOCATION:Coconuts\, 3701 Atlantic Avenue\, Ocean City\, MD\, 21842\, United States
END:VEVENT
BEGIN:VEVENT
DTSTART;TZID=America/New_York:20260802T120000
DTEND;TZID=America/New_York:20260802T150000
DTSTAMP:20260421T053149
CREATED:20260210T160228Z
LAST-MODIFIED:20260210T160228Z
UID:10000537-1785672000-1785682800@coconutsbeachbar.com
SUMMARY:Matt Tichon Solo
DESCRIPTION:
URL:https://coconutsbeachbar.com/event/matt-tichon-solo-3/
LOCATION:Coconuts\, 3701 Atlantic Avenue\, Ocean City\, MD\, 21842\, United States
END:VEVENT
BEGIN:VEVENT
DTSTART;TZID=America/New_York:20260802T160000
DTEND;TZID=America/New_York:20260802T200000
DTSTAMP:20260421T053149
CREATED:20260210T160311Z
LAST-MODIFIED:20260210T160311Z
UID:10000538-1785686400-1785700800@coconutsbeachbar.com
SUMMARY:The Dunehounds
DESCRIPTION:
URL:https://coconutsbeachbar.com/event/the-dunehounds-16/
LOCATION:Coconuts\, 3701 Atlantic Avenue\, Ocean City\, MD\, 21842\, United States
END:VEVENT
BEGIN:VEVENT
DTSTART;TZID=America/New_York:20260803T120000
DTEND;TZID=America/New_York:20260803T150000
DTSTAMP:20260421T053149
CREATED:20260210T160440Z
LAST-MODIFIED:20260210T160440Z
UID:10000539-1785758400-1785769200@coconutsbeachbar.com
SUMMARY:Joey Fitz
DESCRIPTION:
URL:https://coconutsbeachbar.com/event/joey-fitz-4/
LOCATION:Coconuts\, 3701 Atlantic Avenue\, Ocean City\, MD\, 21842\, United States
END:VEVENT
BEGIN:VEVENT
DTSTART;TZID=America/New_York:20260803T160000
DTEND;TZID=America/New_York:20260803T200000
DTSTAMP:20260421T053149
CREATED:20260210T160514Z
LAST-MODIFIED:20260210T160514Z
UID:10000540-1785772800-1785787200@coconutsbeachbar.com
SUMMARY:Fil Rhythm
DESCRIPTION:
URL:https://coconutsbeachbar.com/event/fil-rhythm-4/
LOCATION:Coconuts\, 3701 Atlantic Avenue\, Ocean City\, MD\, 21842\, United States
END:VEVENT
BEGIN:VEVENT
DTSTART;TZID=America/New_York:20260804T113000
DTEND;TZID=America/New_York:20260804T143000
DTSTAMP:20260421T053149
CREATED:20260210T160545Z
LAST-MODIFIED:20260210T160545Z
UID:10000541-1785843000-1785853800@coconutsbeachbar.com
SUMMARY:Tony Mowen
DESCRIPTION:
URL:https://coconutsbeachbar.com/event/tony-mowen-4/
LOCATION:Coconuts\, 3701 Atlantic Avenue\, Ocean City\, MD\, 21842\, United States
END:VEVENT
BEGIN:VEVENT
DTSTART;TZID=America/New_York:20260804T153000
DTEND;TZID=America/New_York:20260804T193000
DTSTAMP:20260421T053149
CREATED:20260210T160618Z
LAST-MODIFIED:20260210T160618Z
UID:10000542-1785857400-1785871800@coconutsbeachbar.com
SUMMARY:DJ Wax
DESCRIPTION:
URL:https://coconutsbeachbar.com/event/dj-wax-4/
LOCATION:Coconuts\, 3701 Atlantic Avenue\, Ocean City\, MD\, 21842\, United States
END:VEVENT
BEGIN:VEVENT
DTSTART;TZID=America/New_York:20260804T200000
DTEND;TZID=America/New_York:20260804T223000
DTSTAMP:20260421T053149
CREATED:20260210T160918Z
LAST-MODIFIED:20260211T223725Z
UID:10000543-1785873600-1785882600@coconutsbeachbar.com
SUMMARY:Family Movie Night
DESCRIPTION:Family Movie Night Starts at Dusk
URL:https://coconutsbeachbar.com/event/movie-night-9/
LOCATION:Coconuts\, 3701 Atlantic Avenue\, Ocean City\, MD\, 21842\, United States
END:VEVENT
BEGIN:VEVENT
DTSTART;TZID=America/New_York:20260805T120000
DTEND;TZID=America/New_York:20260805T150000
DTSTAMP:20260421T053149
CREATED:20260210T161711Z
LAST-MODIFIED:20260210T161711Z
UID:10000544-1785931200-1785942000@coconutsbeachbar.com
SUMMARY:Chris Diller Solo
DESCRIPTION:
URL:https://coconutsbeachbar.com/event/chris-diller-solo-3/
LOCATION:Coconuts\, 3701 Atlantic Avenue\, Ocean City\, MD\, 21842\, United States
END:VEVENT
BEGIN:VEVENT
DTSTART;TZID=America/New_York:20260805T160000
DTEND;TZID=America/New_York:20260805T200000
DTSTAMP:20260421T053149
CREATED:20260210T161749Z
LAST-MODIFIED:20260210T161749Z
UID:10000545-1785945600-1785960000@coconutsbeachbar.com
SUMMARY:Fred & Wilma
DESCRIPTION:
URL:https://coconutsbeachbar.com/event/fred-wilma-3/
LOCATION:Coconuts\, 3701 Atlantic Avenue\, Ocean City\, MD\, 21842\, United States
END:VEVENT
BEGIN:VEVENT
DTSTART;TZID=America/New_York:20260806T120000
DTEND;TZID=America/New_York:20260806T150000
DTSTAMP:20260421T053149
CREATED:20260210T161824Z
LAST-MODIFIED:20260210T161824Z
UID:10000546-1786017600-1786028400@coconutsbeachbar.com
SUMMARY:Kevin Poole Solo
DESCRIPTION:
URL:https://coconutsbeachbar.com/event/kevin-poole-solo-11/
LOCATION:Coconuts\, 3701 Atlantic Avenue\, Ocean City\, MD\, 21842\, United States
END:VEVENT
BEGIN:VEVENT
DTSTART;TZID=America/New_York:20260806T160000
DTEND;TZID=America/New_York:20260806T200000
DTSTAMP:20260421T053149
CREATED:20260210T161855Z
LAST-MODIFIED:20260210T161855Z
UID:10000547-1786032000-1786046400@coconutsbeachbar.com
SUMMARY:Cool Change
DESCRIPTION:
URL:https://coconutsbeachbar.com/event/cool-change-2/
LOCATION:Coconuts\, 3701 Atlantic Avenue\, Ocean City\, MD\, 21842\, United States
END:VEVENT
BEGIN:VEVENT
DTSTART;TZID=America/New_York:20260807T120000
DTEND;TZID=America/New_York:20260807T160000
DTSTAMP:20260421T053149
CREATED:20260210T164814Z
LAST-MODIFIED:20260210T164814Z
UID:10000548-1786104000-1786118400@coconutsbeachbar.com
SUMMARY:Opposite Directions
DESCRIPTION:
URL:https://coconutsbeachbar.com/event/opposite-directions-10/
LOCATION:Coconuts\, 3701 Atlantic Avenue\, Ocean City\, MD\, 21842\, United States
END:VEVENT
BEGIN:VEVENT
DTSTART;TZID=America/New_York:20260807T170000
DTEND;TZID=America/New_York:20260807T210000
DTSTAMP:20260421T053149
CREATED:20260210T164846Z
LAST-MODIFIED:20260210T164846Z
UID:10000549-1786122000-1786136400@coconutsbeachbar.com
SUMMARY:Royal Flush Band
DESCRIPTION:
URL:https://coconutsbeachbar.com/event/royal-flush-band-8/
LOCATION:Coconuts\, 3701 Atlantic Avenue\, Ocean City\, MD\, 21842\, United States
END:VEVENT
BEGIN:VEVENT
DTSTART;TZID=America/New_York:20260808T120000
DTEND;TZID=America/New_York:20260808T160000
DTSTAMP:20260421T053149
CREATED:20260210T164930Z
LAST-MODIFIED:20260210T164930Z
UID:10000550-1786190400-1786204800@coconutsbeachbar.com
SUMMARY:Kevin Poole & Joe Mama
DESCRIPTION:
URL:https://coconutsbeachbar.com/event/kevin-poole-joe-mama-22/
LOCATION:Coconuts\, 3701 Atlantic Avenue\, Ocean City\, MD\, 21842\, United States
END:VEVENT
BEGIN:VEVENT
DTSTART;TZID=America/New_York:20260808T170000
DTEND;TZID=America/New_York:20260808T210000
DTSTAMP:20260421T053149
CREATED:20260210T165006Z
LAST-MODIFIED:20260210T165006Z
UID:10000552-1786208400-1786222800@coconutsbeachbar.com
SUMMARY:Top Dead Center
DESCRIPTION:
URL:https://coconutsbeachbar.com/event/top-dead-center-4/
LOCATION:Coconuts\, 3701 Atlantic Avenue\, Ocean City\, MD\, 21842\, United States
END:VEVENT
BEGIN:VEVENT
DTSTART;TZID=America/New_York:20260808T170000
DTEND;TZID=America/New_York:20260808T210000
DTSTAMP:20260421T053149
CREATED:20260211T200453Z
LAST-MODIFIED:20260211T200520Z
UID:10000551-1786208400-1786222800@coconutsbeachbar.com
SUMMARY:Top Dead Center
DESCRIPTION:
URL:https://coconutsbeachbar.com/event/top-dead-center-4-2/
LOCATION:Coconuts\, 3701 Atlantic Avenue\, Ocean City\, MD\, 21842\, United States
END:VEVENT
BEGIN:VEVENT
DTSTART;TZID=America/New_York:20260809T120000
DTEND;TZID=America/New_York:20260809T150000
DTSTAMP:20260421T053149
CREATED:20260210T165817Z
LAST-MODIFIED:20260210T165817Z
UID:10000553-1786276800-1786287600@coconutsbeachbar.com
SUMMARY:John LaMere
DESCRIPTION:
URL:https://coconutsbeachbar.com/event/john-lamere/
LOCATION:Coconuts\, 3701 Atlantic Avenue\, Ocean City\, MD\, 21842\, United States
END:VEVENT
BEGIN:VEVENT
DTSTART;TZID=America/New_York:20260809T160000
DTEND;TZID=America/New_York:20260809T200000
DTSTAMP:20260421T053149
CREATED:20260210T165848Z
LAST-MODIFIED:20260210T165848Z
UID:10000554-1786291200-1786305600@coconutsbeachbar.com
SUMMARY:Rick & Regina
DESCRIPTION:
URL:https://coconutsbeachbar.com/event/rick-regina-10/
LOCATION:Coconuts\, 3701 Atlantic Avenue\, Ocean City\, MD\, 21842\, United States
END:VEVENT
BEGIN:VEVENT
DTSTART;TZID=America/New_York:20260810T120000
DTEND;TZID=America/New_York:20260810T150000
DTSTAMP:20260421T053149
CREATED:20260210T165922Z
LAST-MODIFIED:20260210T165922Z
UID:10000555-1786363200-1786374000@coconutsbeachbar.com
SUMMARY:Sean Loomis
DESCRIPTION:
URL:https://coconutsbeachbar.com/event/sean-loomis-13/
LOCATION:Coconuts\, 3701 Atlantic Avenue\, Ocean City\, MD\, 21842\, United States
END:VEVENT
BEGIN:VEVENT
DTSTART;TZID=America/New_York:20260810T160000
DTEND;TZID=America/New_York:20260810T200000
DTSTAMP:20260421T053149
CREATED:20260210T165954Z
LAST-MODIFIED:20260310T183431Z
UID:10000556-1786377600-1786392000@coconutsbeachbar.com
SUMMARY:The Rogue Citizens
DESCRIPTION:
URL:https://coconutsbeachbar.com/event/rogue-citizens-8/
LOCATION:Coconuts\, 3701 Atlantic Avenue\, Ocean City\, MD\, 21842\, United States
END:VEVENT
BEGIN:VEVENT
DTSTART;TZID=America/New_York:20260811T113000
DTEND;TZID=America/New_York:20260811T143000
DTSTAMP:20260421T053149
CREATED:20260210T171241Z
LAST-MODIFIED:20260210T171430Z
UID:10000557-1786447800-1786458600@coconutsbeachbar.com
SUMMARY:Jack Bannon
DESCRIPTION:
URL:https://coconutsbeachbar.com/event/jack-bannon-12/
LOCATION:Coconuts\, 3701 Atlantic Avenue\, Ocean City\, MD\, 21842\, United States
END:VEVENT
BEGIN:VEVENT
DTSTART;TZID=America/New_York:20260811T153000
DTEND;TZID=America/New_York:20260811T193000
DTSTAMP:20260421T053149
CREATED:20260210T171537Z
LAST-MODIFIED:20260210T171537Z
UID:10000558-1786462200-1786476600@coconutsbeachbar.com
SUMMARY:Jess Arms
DESCRIPTION:
URL:https://coconutsbeachbar.com/event/jess-arms-8/
LOCATION:Coconuts\, 3701 Atlantic Avenue\, Ocean City\, MD\, 21842\, United States
END:VEVENT
BEGIN:VEVENT
DTSTART;TZID=America/New_York:20260811T200000
DTEND;TZID=America/New_York:20260811T223000
DTSTAMP:20260421T053149
CREATED:20260210T171629Z
LAST-MODIFIED:20260211T223518Z
UID:10000559-1786478400-1786487400@coconutsbeachbar.com
SUMMARY:Family Movie Night
DESCRIPTION:Family Movie Night Starts at Dusk
URL:https://coconutsbeachbar.com/event/movie-night-10/
LOCATION:Coconuts\, 3701 Atlantic Avenue\, Ocean City\, MD\, 21842\, United States
END:VEVENT
BEGIN:VEVENT
DTSTART;TZID=America/New_York:20260812T120000
DTEND;TZID=America/New_York:20260812T150000
DTSTAMP:20260421T053149
CREATED:20260210T171711Z
LAST-MODIFIED:20260210T171711Z
UID:10000560-1786536000-1786546800@coconutsbeachbar.com
SUMMARY:Medium Wave Jay
DESCRIPTION:
URL:https://coconutsbeachbar.com/event/medium-wave-jay-4/
LOCATION:Coconuts\, 3701 Atlantic Avenue\, Ocean City\, MD\, 21842\, United States
END:VEVENT
BEGIN:VEVENT
DTSTART;TZID=America/New_York:20260812T160000
DTEND;TZID=America/New_York:20260812T200000
DTSTAMP:20260421T053149
CREATED:20260210T171739Z
LAST-MODIFIED:20260210T171739Z
UID:10000561-1786550400-1786564800@coconutsbeachbar.com
SUMMARY:Monkee Paw
DESCRIPTION:
URL:https://coconutsbeachbar.com/event/monkee-paw-17/
LOCATION:Coconuts\, 3701 Atlantic Avenue\, Ocean City\, MD\, 21842\, United States
END:VEVENT
BEGIN:VEVENT
DTSTART;TZID=America/New_York:20260813T120000
DTEND;TZID=America/New_York:20260813T150000
DTSTAMP:20260421T053149
CREATED:20260210T171816Z
LAST-MODIFIED:20260210T171816Z
UID:10000562-1786622400-1786633200@coconutsbeachbar.com
SUMMARY:Union Road
DESCRIPTION:
URL:https://coconutsbeachbar.com/event/union-road-7/
LOCATION:Coconuts\, 3701 Atlantic Avenue\, Ocean City\, MD\, 21842\, United States
END:VEVENT
BEGIN:VEVENT
DTSTART;TZID=America/New_York:20260813T160000
DTEND;TZID=America/New_York:20260813T200000
DTSTAMP:20260421T053149
CREATED:20260210T172120Z
LAST-MODIFIED:20260210T172120Z
UID:10000563-1786636800-1786651200@coconutsbeachbar.com
SUMMARY:Aaron Howell Trio
DESCRIPTION:
URL:https://coconutsbeachbar.com/event/aaron-howell-trio-4/
LOCATION:Coconuts\, 3701 Atlantic Avenue\, Ocean City\, MD\, 21842\, United States
END:VEVENT
BEGIN:VEVENT
DTSTART;TZID=America/New_York:20260814T120000
DTEND;TZID=America/New_York:20260814T160000
DTSTAMP:20260421T053149
CREATED:20260210T172153Z
LAST-MODIFIED:20260210T172153Z
UID:10000564-1786708800-1786723200@coconutsbeachbar.com
SUMMARY:Darin Engh
DESCRIPTION:
URL:https://coconutsbeachbar.com/event/darin-engh-28/
LOCATION:Coconuts\, 3701 Atlantic Avenue\, Ocean City\, MD\, 21842\, United States
END:VEVENT
END:VCALENDAR